BEGIN:VCALENDAR
VERSION:2.0
METHOD:PUBLISH
PRODID:-//Virginia Tech//VT Calendar//EN
BEGIN:VEVENT
DTSTAMP:20110430T230000Z
UID:1302716449049@events.msu.edu
CATEGORIES:Movie / Film
DTSTART:20110430T230000Z
DTEND:20110501T035900Z
SUMMARY:Campus Center Cinemas
DESCRIPTION:
 The King's Speech\n
 Saturday\n
 Conrad Auditorium 
 7:00  p.m.\n
 \n
 I am Number Four\n
 Saturday\n
 109 
 S Kedzie 7:00 & 9:15p.m.\n
  Conrad 9:00p.m.\n
 \n
 ELFS-The 
 Last Train Home\n
 Saturday 107 S Kedzie 
 7:00 & 9:15 p.m.\n\n
 Price: Residence Hall students FREE, all others $2\n
 Sponsor: University Activities Board (UAB) and Residence 
 Halls Assoc. (RHA)\n
 Sponsor's Homepage: http://www.uabevents.com\n
 Contact name: University Activities Board\n
 Contact phone: 355-3354\n
 Contact email: uab@hfs.msu.edu\n
 for more info visit the web at:\n 
 http://www.uabevents.com or www.rha.msu.edu\n
LOCATION:Conrad Auditorium, Wilson Auditorium, Kedzie Halls
END:VEVENT
END:VCALENDAR
