BEGIN:VCALENDAR
VERSION:2.0
METHOD:PUBLISH
PRODID:-//Virginia Tech//VT Calendar//EN
BEGIN:VEVENT
DTSTAMP:20110506T040000Z
UID:1303319433249@events.msu.edu
CATEGORIES:Public Programs
DTSTART;VALUE=DATE:20110506
DTEND;VALUE=DATE:20110507
SUMMARY:Pack Up. Pitch In. Help Out.: City of East Lansing
DESCRIPTION:
  Price: free\n
 Sponsor: public\n
 Contact name: Diane Barker\n
 Contact email: barker@msu.edu\n
 for more info visit the web at:\n 
 http://liveon.msu.edu/newsandevents/pack-pitch-help-out-semester's-end\n
LOCATION:East Lansing Hannah Community Center
END:VEVENT
END:VCALENDAR
