BEGIN:VCALENDAR
VERSION:2.0
METHOD:PUBLISH
PRODID:-//Virginia Tech//VT Calendar//EN
BEGIN:VEVENT
DTSTAMP:20110514T040000Z
UID:1303830626495@events.msu.edu
CATEGORIES:Public Programs
DTSTART;VALUE=DATE:20110514
DTEND;VALUE=DATE:20110515
SUMMARY:Pack Up. Pitch In. Help Out.: Cherry Lane and Faculty Bricks
DESCRIPTION:
  Price: free\n
 Sponsor: public\n
 Contact name: Diane Barker\n
 Contact email: barker@msu.edu\n
 for more info visit the web at:\n 
 http://liveon.msu.edu/newsandevents/pack-pitch-help-out-semester's-end\n
LOCATION:Cherry Lane and Faculty Bricks Apartments
END:VEVENT
END:VCALENDAR
