BEGIN:VCALENDAR
VERSION:2.0
METHOD:PUBLISH
PRODID:-//Virginia Tech//VT Calendar//EN
BEGIN:VEVENT
DTSTAMP:20110727T130000Z
UID:1304530735733-0003@events.msu.edu
CATEGORIES:Public Programs
DTSTART:20110727T130000Z
DTEND:20110727T200000Z
SUMMARY:Chinese Camp for Kids
DESCRIPTION:
 \n
 	This one-week camp (M-F, July 25-29, 9-4 OR 
 morning-only 9-12) introduces children to the 
 Chinese language and culture. The program is 
 open to children ages 7-12 and no knowledge 
 of Chinese is necessary. Children of higher 
 proficiency levels can be accommodated. Please 
 register by July 8 at http://cls.celta.msu.edu/enroll.php. 
 Program costs are $240 for the 
 all-day option (lunch provided by parents) 
 and $105 for morning-only. Multiple child/program 
 discounts are available (25%).\n
 \n\n
 Price: $240 for all-day, $105 for morning-only\n
 Sponsor: Center for Language Teaching Advancement\n
 Sponsor's Homepage: http://celta.msu.edu\n
 Contact name: Alicia Rice\n
 Contact phone: 517-432-6770\n
 Contact email: cls@celta.msu.edu\n
 for more info visit the web at:\n 
 http://cls.celta.msu.edu\n
LOCATION:160 Old Horticulture
END:VEVENT
END:VCALENDAR
