BEGIN:VCALENDAR
VERSION:2.0
METHOD:PUBLISH
PRODID:-//Virginia Tech//VT Calendar//EN
BEGIN:VEVENT
DTSTAMP:20110619T000000Z
UID:1307371281435@events.msu.edu
CATEGORIES:Public Programs
DTSTART:20110619T000000Z
DTEND:20110619T013000Z
SUMMARY:Dark Matters
DESCRIPTION:
 "Dark Matters" explores the dark, empty space 
 between the stars and galaxies which contain 
 a mysterious substance.  We don't know what it 
 is and we cannot see it, but we know it is 
 there. \n\n
 Price: Adults $3.00, students and senior citizens $2.50, 
 children 12 years and under $2.00\n
 Sponsor: Abrams Planetarium\n
 Sponsor's Homepage: http://www.pa.msu.edu/abrams\n
 Contact name: Mary Gowans\n
 Contact phone: 517-355-4676\n
 Contact email: gowans@msu.edu\n
 for more info visit the web at:\n 
 http://www.pa.msu.edu/abrams\n
LOCATION:Abrams Planetarium
END:VEVENT
END:VCALENDAR
