BEGIN:VCALENDAR
VERSION:2.0
METHOD:PUBLISH
PRODID:-//Virginia Tech//VT Calendar//EN
BEGIN:VEVENT
DTSTAMP:20120226T010000Z
UID:1308582743129@events.msu.edu
CATEGORIES:Performing Arts (Dance, Music, Theatre,  ...)
DTSTART:20120226T010000Z
DTEND:20120226T045900Z
SUMMARY:Symphony Orchestra
DESCRIPTION:
 CONDUCTOR\n
 <a href="http://people.music.msu.edu/detail.asp?ContactID=16&RecPos=21">Leon 
 Gregorian</a><br>\n
 Shostakovich 
 - Symphony No. 7, 
 Op. 60 "Leningrad"\n\n
 Price: $10, $8 for seniors, and free for students and 
 those under age 18.\n
 Sponsor: College of Music\n
 Sponsor's Homepage: http://www.music.msu.edu\n
 Contact phone: 517-353-5340\n
 Contact email: musicpr@msu.edu\n
LOCATION:Cobb Great Hall, Wharton Center, Shaw Lane at Bogue Street, East Lansing, MI
END:VEVENT
END:VCALENDAR
