BEGIN:VCALENDAR
VERSION:2.0
METHOD:PUBLISH
PRODID:-//Virginia Tech//VT Calendar//EN
BEGIN:VEVENT
DTSTAMP:20110929T233000Z
UID:1311947064063@events.msu.edu
CATEGORIES:Performing Arts (Dance, Music, Theatre,  ...)
DTSTART:20110929T233000Z
DTEND:20110930T035900Z
SUMMARY:Suren Bagratuni, cello, and Minsoo Sohn, piano
DESCRIPTION:
 More about <a href="http://people.music.msu.edu/detail.asp?ContactID=44&RecPos=1">Suren 
 Bagratuni</a>\n
 More 
 about <a href="http://people.music.msu.edu/detail.asp?ContactID=92&RecPos=65">Minsoo 
 Sohn</a>\n\n
 Price: Regular ticket prices: $10 for adults, $8 for 
 senior citizens, free for students\n
 Sponsor: College of Music\n
 Sponsor's Homepage: http://www.music.msu.edu\n
 Contact phone: 517.353.5340\n
 Contact email: musicpr@msu.edu\n
LOCATION:Music Building Auditorium
END:VEVENT
END:VCALENDAR
