BEGIN:VCALENDAR
VERSION:2.0
METHOD:PUBLISH
PRODID:-//Virginia Tech//VT Calendar//EN
BEGIN:VEVENT
DTSTAMP:20120205T200000Z
UID:1312210519633@events.msu.edu
CATEGORIES:Performing Arts (Dance, Music, Theatre,  ...)
DTSTART:20120205T200000Z
DTEND:20120206T045900Z
SUMMARY:Melanie Helton, soprano, and Alan Nathan, piano
DESCRIPTION:
 More about <a href="http://people.music.msu.edu/detail.asp?ContactID=53&RecPos=23">Melanie 
 Helton</a>\n
 More about <a href="http://people.music.msu.edu/detail.asp?ContactID=47&RecPos=41">Alan 
 Nathan</a>\n\n
 Price: Regular ticket prices: $10 for adults, $8 for 
 senior citizens, free for students\n
 Sponsor: College of Music\n
 Sponsor's Homepage: http://www.music.msu.edu\n
 Contact phone: 517.353.5340\n
 Contact email: musicpr@msu.edu\n
LOCATION:Music Building Auditorium
END:VEVENT
END:VCALENDAR
