BEGIN:VCALENDAR
VERSION:2.0
METHOD:PUBLISH
PRODID:-//Virginia Tech//VT Calendar//EN
BEGIN:VEVENT
DTSTAMP:20120215T003000Z
UID:1312211109224@events.msu.edu
CATEGORIES:Performing Arts (Dance, Music, Theatre,  ...)
DTSTART:20120215T003000Z
DTEND:20120215T045900Z
SUMMARY:Ulf Hoelscher, violin
DESCRIPTION:
 More about <a href="http://www.ulfhoelscher.de/">Ulf 
 Hoelscher</a> \n\n
 Price: Regular ticket prices: $10 for adults, $8 for 
 senior citizens, free for students\n
 Sponsor: College of Music\n
 Sponsor's Homepage: http://www.music.msu.edu\n
 Contact phone: 517.353.5340\n
 Contact email: musicpr@msu.edu\n
LOCATION:Music Building Auditorium
END:VEVENT
END:VCALENDAR
