BEGIN:VCALENDAR
VERSION:2.0
METHOD:PUBLISH
PRODID:-//Virginia Tech//VT Calendar//EN
BEGIN:VEVENT
DTSTAMP:20120219T010000Z
UID:1312211188785@events.msu.edu
CATEGORIES:Performing Arts (Dance, Music, Theatre,  ...)
DTSTART:20120219T010000Z
DTEND:20120219T045900Z
SUMMARY:I-Fu Wang, violin, and Deborah Moriarty, piano
DESCRIPTION:
 More about <a href="http://people.music.msu.edu/detail.asp?ContactID=49&RecPos=76">I-Fu 
 Wang</a>\n
 More 
 about <a href="http://people.music.msu.edu/detail.asp?ContactID=32&RecPos=40">Deborah 
 Moriarty</a>\n\n
 Price: Regular ticket prices: $10 for adults, $8 for 
 senior citizens, free for students\n
 Sponsor: College of Music\n
 Sponsor's Homepage: http://www.music.msu.edu\n
 Contact phone: 517.353.5340\n
 Contact email: musicpr@msu.edu\n
LOCATION:Music Building Auditorium
END:VEVENT
END:VCALENDAR
