BEGIN:VCALENDAR
VERSION:2.0
METHOD:PUBLISH
PRODID:-//Virginia Tech//VT Calendar//EN
BEGIN:VEVENT
DTSTAMP:20120226T200000Z
UID:1312211954871@events.msu.edu
CATEGORIES:Performing Arts (Dance, Music, Theatre,  ...)
DTSTART:20120226T200000Z
DTEND:20120227T045900Z
SUMMARY:Detroit Symphony Orchestra with MSU Children's Choir
DESCRIPTION:
 <p>with soloists and UMS Choral Union;\n
 Leonard 
 Slatkin, conductor\n
 Orchestra Hall, 3711 Woodward 
 Ave, Detroit\n
 \n
 John Adams - On the Transmigration 
 of Souls\n
 Brahms - A German Requiem\n
 \n
 For 
 more information, call (313) 576-5111 
 or visit detroitsymphony.com.\n\n
 Sponsor: College of Music\n
 Sponsor's Homepage: http://www.music.msu.edu\n
 Contact phone: (313) 576-5111\n
 for more info visit the web at:\n 
 http://detroitsymphony.com\n
LOCATION:Orchestra Hall, 3711 Woodward Ave, Detroit
END:VEVENT
END:VCALENDAR
