BEGIN:VCALENDAR
VERSION:2.0
METHOD:PUBLISH
PRODID:-//Virginia Tech//VT Calendar//EN
BEGIN:VEVENT
DTSTAMP:20110913T032000Z
UID:1314022452558@events.msu.edu
CATEGORIES:Conferences / Seminars / Lectures
DTSTART:20110913T032000Z
DTEND:20110912T163000Z
SUMMARY:Special Chemistry Seminar
DESCRIPTION:
 Dr. Janet Eary, Associate Professor of Pathology 
 and Orthopedics, University of Washington 
 Medical Center, will present a Special Organic 
 Seminar on Monday, September 12, titled Chemistry 
 is Important. Host is Professor Xuefei 
 Huang.\n\n
 Price: free\n
 Sponsor: Chemistry\n
 Sponsor's Homepage: http://www.chemistry.msu.edu/\n
 Contact name: DeAnn Pierce\n
 Contact phone: 517-355-9715, X137\n
 Contact email: pierce@chemistry.msu.edu\n
LOCATION:136 Chemistry
END:VEVENT
END:VCALENDAR
