BEGIN:VCALENDAR
VERSION:2.0
METHOD:PUBLISH
PRODID:-//Virginia Tech//VT Calendar//EN
BEGIN:VEVENT
DTSTAMP:20110829T020000Z
UID:1314373609275@events.msu.edu
CATEGORIES:Student Events
DTSTART:20110829T020000Z
DTEND:20110829T033000Z
SUMMARY:Ice Skating @ Munn Arena
DESCRIPTION:
  Price: free\n
 Sponsor: Residence Life\n
 Sponsor's Homepage: http://reslife.msu.edu/\n
 for more info visit the web at:\n 
 http://fallwelcome.msu.edu/day1.html\n
END:VEVENT
END:VCALENDAR
