BEGIN:VCALENDAR
VERSION:2.0
METHOD:PUBLISH
PRODID:-//Virginia Tech//VT Calendar//EN
BEGIN:VEVENT
DTSTAMP:20110902T140000Z
UID:1314374750643-0005@events.msu.edu
CATEGORIES:Student Events
DTSTART:20110902T140000Z
DTEND:20110902T180000Z
SUMMARY:Drop-In Days for Student Jobs
DESCRIPTION:
 NOTE: Due to the MSU home football game, event 
 hours have changed for Friday, Sept. 2. The 
 office will close at 3 p.m. \n
 \n
 *Drop in any 
 afternoon to Career Services in the Student Services 
 Building all week! Our career advisors 
 will be available with resources to help you 
 find a part-time job, tips to polish your resume 
 and advice for preparing for the Earn, 
 Learn and Internship Fair coming up on September 
 8.\n
 \n\n
 Price: free\n
 Sponsor: Career Services\n
 Sponsor's Homepage: http://careernetwork.msu.edu/\n
 for more info visit the web at:\n 
 http://fallwelcome.msu.edu/day2.html\n
LOCATION:113 Student Services Building   
END:VEVENT
END:VCALENDAR
