BEGIN:VCALENDAR
VERSION:2.0
METHOD:PUBLISH
PRODID:-//Virginia Tech//VT Calendar//EN
BEGIN:VEVENT
DTSTAMP:20110909T170000Z
UID:1314883074974@events.msu.edu
CATEGORIES:Conferences / Seminars / Lectures
DTSTART:20110909T170000Z
DTEND:20110909T200000Z
SUMMARY:Statistics Refresher
DESCRIPTION:
 Center for Statistical Training &amp; Consulting 
 Fall 2011 Training series.  Statistics Refresher 
 is led by Dr. Kimberly Maier.  The goal 
 of this workshop is to &quot;refresh&quot; 
 your memory of basic statistics.  The workshop 
 will also include opportunities for hands-on 
 analyses using SPSS.\n
 \n
 \n
 \n\n
 Price: Free\n
 Sponsor: public\n
 Contact name: Jodi Potter\n
 Contact phone: (517) 353-9288\n
 Contact email: cstatinf@msu.edu\n
 for more info visit the web at:\n 
 http://www.cstat.msu.edu/services/workshops/workshop.aspx?id=1740\n
LOCATION:106 Farrall Ag. Engineering Hall
END:VEVENT
END:VCALENDAR
