BEGIN:VCALENDAR
VERSION:2.0
METHOD:PUBLISH
PRODID:-//Virginia Tech//VT Calendar//EN
BEGIN:VEVENT
DTSTAMP:20110925T040000Z
UID:1315319928694-0020@events.msu.edu
CATEGORIES:Exhibits (Museum, Gardens, ...)
DTSTART;VALUE=DATE:20110925
DTEND;VALUE=DATE:20110926
SUMMARY:Great Dance
DESCRIPTION:
 A "spiritual masquerade" is the subject of a new 
 photo exhibition in the Heritage Gallery.\n
 \n
 "Great 
 Dance" features striking images of 
 the gule wamkulu (pronounced "goolay wumkooloo"), 
 or "great dance," practiced by villagers 
 throughout Malawi, Mozambique and Zambia, in 
 Africa. A gule wamkulu performance brings the 
 community together in times of celebration 
 and of mourning: masked and woven characters 
 represent the ancestors of the people who have 
 come back to the land of the living to instruct 
 the community in proper behavior.\n\n
 Price: free\n
 Sponsor: MSU Museum\n
 Sponsor's Homepage: http://museum.msu.edu\n
 Contact phone: 517-355-2370\n
 Contact email: pr@museum.msu.edu\n
 for more info visit the web at:\n 
 http://museum.msu.edu\n
LOCATION:MSU Museum
END:VEVENT
END:VCALENDAR
