BEGIN:VCALENDAR
VERSION:2.0
METHOD:PUBLISH
PRODID:-//Virginia Tech//VT Calendar//EN
BEGIN:VEVENT
DTSTAMP:20110909T220000Z
UID:1315404989822@events.msu.edu
CATEGORIES:Athletics
DTSTART:20110909T220000Z
DTEND:20110910T035900Z
SUMMARY:Volleyball vs. Bowling Green
DESCRIPTION:
 Time/location subject to change. For the most 
 up-to-date information, go to http://www.msuspartans.com. 
 \n\n
 Sponsor: Athletics\n
 Sponsor's Homepage: http://msuspartans.collegesports.com\n
 for more info visit the web at:\n 
 http://www.msuspartans.com\n
LOCATION:Jenison Field House
END:VEVENT
END:VCALENDAR
