BEGIN:VCALENDAR
VERSION:2.0
METHOD:PUBLISH
PRODID:-//Virginia Tech//VT Calendar//EN
BEGIN:VEVENT
DTSTAMP:20111030T183000Z
UID:1315494827000@events.msu.edu
CATEGORIES:Public Programs
DTSTART:20111030T183000Z
DTEND:20111030T193000Z
SUMMARY:The Super Sky Show
DESCRIPTION:
 The Sunday family show, appropriate for children, 
 preschool through 2nd grade, and their families 
 is "The Super Sky Show.  Join host Seymour 
 Sky as he features the group of special 
 guests which include Queen Cassiopeia, the Earth 
 and the Sun, and an intriguing "mystery" 
 guest.  Children will hear star myths and learn 
 about the night sky and the planets around 
 them. The Sunday family show is shown only at 
 2:30 p.m. on Sundays.\n\n
 Price: Adults $3.00, students and senior citizens $2.50, 
 children 12 years and under $2.00\n
 Sponsor: Abrams Planetarium\n
 Sponsor's Homepage: http://www.pa.msu.edu/abrams\n
 Contact name: Mary Gowans\n
 Contact phone: 517-355-4676\n
 Contact email: gowans@msu.edu\n
 for more info visit the web at:\n 
 http://www.pa.msu.edu/abrams\n
LOCATION:Abrams Planetarium
END:VEVENT
END:VCALENDAR
