BEGIN:VCALENDAR
VERSION:2.0
METHOD:PUBLISH
PRODID:-//Virginia Tech//VT Calendar//EN
BEGIN:VEVENT
DTSTAMP:20111206T230000Z
UID:1315585596329-0013@events.msu.edu
CATEGORIES:Student Events
DTSTART:20111206T230000Z
DTEND:20111207T045900Z
SUMMARY:UAB General Board Meeting
DESCRIPTION:
 Want to get involved in planning on-campus activities? 
  All undergraduate students are welcome 
 to join and it is FREE to be a member! \n
 \n\n
 Price: FREE\n
 Sponsor: University Activities Board (UAB)\n
 Sponsor's Homepage: http://www.uabevents.com\n
 Contact name: University Activities Board\n
 Contact phone: 355-3354\n
 Contact email: uab@hfs.msu.edu\n
 for more info visit the web at:\n 
 http://www.uabevents.com\n
LOCATION:Gold A&B MSU Union
END:VEVENT
END:VCALENDAR
