BEGIN:VCALENDAR
VERSION:2.0
METHOD:PUBLISH
PRODID:-//Virginia Tech//VT Calendar//EN
BEGIN:VEVENT
DTSTAMP:20111127T210000Z
UID:1315920629665@events.msu.edu
CATEGORIES:Public Programs
DTSTART:20111127T210000Z
DTEND:20111127T223000Z
SUMMARY:Season of Light
DESCRIPTION:
 Many of the familiar customs that we observe this 
 time of year have an astronomical connection. 
  Our holiday offering explores the traditions 
 that we associate with this special season. 
  The idea of a "Christmas Star" is briefly 
 examined.  NPR's Noah Adams narrates.\n\n
 Price: Adults $3.00, students and senior citizens $2.50, 
 children 12 years and under $2.00\n
 Sponsor: Abrams Planetarium\n
 Sponsor's Homepage: http://www.pa.msu.edu/abrams\n
 Contact name: Mary Gowans\n
 Contact phone: 517-355-4676\n
 Contact email: gowans@msu.edu\n
 for more info visit the web at:\n 
 http://www.pa.msu.edu/abrams\n
LOCATION:Abrams Planetarium
END:VEVENT
END:VCALENDAR
