BEGIN:VCALENDAR
VERSION:2.0
METHOD:PUBLISH
PRODID:-//Virginia Tech//VT Calendar//EN
BEGIN:VEVENT
DTSTAMP:20111010T201000Z
UID:1316024110402@events.msu.edu
CATEGORIES:Conferences / Seminars / Lectures
DTSTART:20111010T201000Z
DTEND:20111011T035900Z
SUMMARY:Plant Biology and Plant Research Laboratory
DESCRIPTION:
 Professor Ellen Damschen from the University of 
 Wisconsin gives a presentation entitled, &quot;The 
 effects of habitat fragmentation and 
 climate change on plant communities&quot;\n\n
 Price: free\n
 Sponsor: public\n
 Contact name: Adelle Rigotti\n
 Contact phone: 355-4683\n
 Contact email: rigottia@msu.edu\n
LOCATION:101 Biochemistry
END:VEVENT
END:VCALENDAR
