BEGIN:VCALENDAR
VERSION:2.0
METHOD:PUBLISH
PRODID:-//Virginia Tech//VT Calendar//EN
BEGIN:VEVENT
DTSTAMP:20111011T201000Z
UID:1316703444940@events.msu.edu
CATEGORIES:Conferences / Seminars / Lectures
DTSTART:20111011T201000Z
DTEND:20111012T035900Z
SUMMARY:Microbiology &amp; Molecular Genetics  Seminar
DESCRIPTION:
 First Annual Thomas S Whittam Memorial Lecture\n
 Dr. 
 Phillip Tarr (Washington University)\n
 will 
 be speaking on\n
 The Neonatal Enteric Biomass 
 and Necrotizing Entercolitis:  A Polymicrobial 
 Challenge\n\n
 Price: free\n
 Sponsor: public\n
 Contact name: Beth Whittam\n
 Contact email: stec@cvm.msu.edu\n
LOCATION:1415 Biomedical &amp; Physical Science
END:VEVENT
END:VCALENDAR
