BEGIN:VCALENDAR
VERSION:2.0
METHOD:PUBLISH
PRODID:-//Virginia Tech//VT Calendar//EN
BEGIN:VEVENT
DTSTAMP:20121102T040000Z
UID:1317044664927-0006@events.msu.edu
CATEGORIES:Special Events
DTSTART;VALUE=DATE:20121102
DTEND;VALUE=DATE:20121103
SUMMARY:Book Days at Schuler Books & Music
DESCRIPTION:
 Show your support for the MSU Community Music 
 School by purchasing books, DVDs, music, or sideline 
 merchandise at one of the Schuler Books 
 & Music Lansing locations (Meridian Mall in 
 Okemos and Eastwood Towne Center in Lansing), 
 Oct. 28-Nov. 3. When you mention CMS Book 
 Days at the point of sale, 20 percent of your 
 purchase will be donated to CMS at no cost to 
 you.\n
  \n
 Special order books, out-of-print 
 books and food and beverage purchases are not 
 eligible for Book Days.\n\n
 Price: free\n
 Sponsor: Administration\n
 Sponsor's Homepage: http://cms.msu.edu\n
LOCATION:Schuler Books & Music
END:VEVENT
END:VCALENDAR
