BEGIN:VCALENDAR
VERSION:2.0
METHOD:PUBLISH
PRODID:-//Virginia Tech//VT Calendar//EN
BEGIN:VEVENT
DTSTAMP:20111208T133000Z
UID:1317731055496@events.msu.edu
CATEGORIES:Public Programs
DTSTART:20111208T133000Z
DTEND:20111209T045900Z
SUMMARY:Construction Junction
DESCRIPTION:
 Construction Junctions are the Physical Plant's 
 way of providing regular opportunities for 
 dialogue and engagement, in support of MSU President 
 Lou Anna K. Simon's Boldness by Design 
 strategic positioning initiative &quot;Enrich 
 Community.&quot; Think of them as monthly 
 town hall meetings. They are designed to inform 
 MSU students, faculty and staff about projects 
 in design and under construction and to 
 gather feedback from the community.\n
 \n
 Construction 
 Junctions are currently held at 8:30 a.m. 
 the second Thursday of the month, in Room 
 206 of Old Horticulture Building. Agendas for 
 upcoming meetings are posted here in advance 
 and materials from past meetings are posted 
 here afterward for reference in case you couldn't 
 make the meeting or want to share information 
 with others.\n\n
 Price: free\n
 Sponsor: public\n
 Contact name: Karen Zelt\n
 Contact email: kzelt@pplant.msu.edu\n
 for more info visit the web at:\n 
 http://construction.msu.edu/index.cfm/construction-junctions/\n
LOCATION:206 Old Horticulture Building
END:VEVENT
END:VCALENDAR
