BEGIN:VCALENDAR
VERSION:2.0
METHOD:PUBLISH
PRODID:-//Virginia Tech//VT Calendar//EN
BEGIN:VEVENT
DTSTAMP:20111122T000000Z
UID:1318599311653@events.msu.edu
CATEGORIES:Conferences / Seminars / Lectures
DTSTART:20111122T000000Z
DTEND:20111122T045900Z
SUMMARY:Understanding Genocide Across Time and Space
DESCRIPTION:
 Come join the dialogue!\n
 \n
 Faculty Panel:\n
 Laura 
 Apol, PhD\n
 Teacher Education\n
 \n
 Christine 
 DeJong, PhD \n
 School of Criminal Justice and 
 Center for Integrative Studies in Social Science\n
 \n
 Elizabeth 
 Drexler, PhD\n
 Anthropology and 
 Peace and Justice Studies\n
 \n
 Ken Waltzer, 
 PhD\n
 James Madison College and Jewish Studies\n
 \n
 Moderator: 
  \n
 Cynthia Jackson-Elmoore, PhD\n
 Dean 
 of the Honors College \n
 \n\n
 Price: free\n
 Sponsor: public\n
 Contact name: John Beck\n
 Contact phone: 517-432-3982\n
 Contact email: beckj@msu.edu\n
LOCATION:Union Gold Room AB
END:VEVENT
END:VCALENDAR
