BEGIN:VCALENDAR
VERSION:2.0
METHOD:PUBLISH
PRODID:-//Virginia Tech//VT Calendar//EN
BEGIN:VEVENT
DTSTAMP:20111030T220000Z
UID:1319553677213@events.msu.edu
CATEGORIES:Performing Arts (Dance, Music, Theatre,  ...)
DTSTART:20111030T220000Z
DTEND:20111031T035900Z
SUMMARY:The Great Halloween Play-In
DESCRIPTION:
 Come to the Great Halloween Play-In, Sunday, October 
 30 at 6 p.m. Wear a costume, play a piece, 
 share a treat!\n\n
 Price: free\n
 Sponsor: Administration\n
 Sponsor's Homepage: http://cms.msu.edu\n
 Contact phone: (517) 355-7661\n
 Contact email: commusic@msu.edu\n
LOCATION:Community Music School
END:VEVENT
END:VCALENDAR
