BEGIN:VCALENDAR
VERSION:2.0
METHOD:PUBLISH
PRODID:-//Virginia Tech//VT Calendar//EN
BEGIN:VEVENT
DTSTAMP:20120321T200000Z
UID:1321467792125@events.msu.edu
CATEGORIES:Conferences / Seminars / Lectures
DTSTART:20120321T200000Z
DTEND:20120321T211500Z
SUMMARY:Department of Chemistry Organic Seminar
DESCRIPTION:
 Dr. William J. Kruper, Dow Chemical, will be presenting 
 a Department of Chemistry Organic Seminar 
 on March 21, 2012.  Host - Professor Babak 
 Borhan.  Title:  New Organic Process Chemistries 
 Stemming from Unexpected Observations: 
 Commercial to Curiosity-based Discoveries 
 and Vice-Versa.\n
 \n\n
 Price: free\n
 Sponsor: Chemistry\n
 Sponsor's Homepage: http://www.chemistry.msu.edu/\n
 Contact name: DeAnn Pierce\n
 Contact phone: 517-355-9715, X137\n
 Contact email: pierce@chemistry.msu.edu\n
LOCATION:136 Chemistry
END:VEVENT
END:VCALENDAR
