BEGIN:VCALENDAR
VERSION:2.0
METHOD:PUBLISH
PRODID:-//Virginia Tech//VT Calendar//EN
BEGIN:VEVENT
DTSTAMP:20111128T210000Z
UID:1321643168779@events.msu.edu
CATEGORIES:Conferences / Seminars / Lectures
DTSTART:20111128T210000Z
DTEND:20111129T045900Z
SUMMARY:Duke University
DESCRIPTION:
 Prof. Meng Chen from Duke University gives a presentation 
 entitled, &quot;Phytochrome signaling 
 and plant development&quot;\n\n
 Price: free\n
 Sponsor: public\n
 Contact name: Janet Taylor\n
 Contact phone: 517/353-2270\n
 Contact email: taylorja@cns.msu.edu\n
LOCATION:101 Biochemistry
END:VEVENT
END:VCALENDAR
