BEGIN:VCALENDAR
VERSION:2.0
METHOD:PUBLISH
PRODID:-//Virginia Tech//VT Calendar//EN
BEGIN:VEVENT
DTSTAMP:20111229T003000Z
UID:1321904462405@events.msu.edu
CATEGORIES:Athletics
DTSTART:20111229T003000Z
DTEND:20111229T045900Z
SUMMARY:Men's Basketball vs. Indiana
DESCRIPTION:
  Sponsor: MSU Athletics\n
 Sponsor's Homepage: http://events.msu.edu/athletics/\n
 for more info visit the web at:\n 
 http://www.msuspartans.com/sports/m-baskbl/sched/msu-m-baskbl-sched.html\n
LOCATION:Breslin Center
END:VEVENT
END:VCALENDAR
