BEGIN:VCALENDAR
VERSION:2.0
METHOD:PUBLISH
PRODID:-//Virginia Tech//VT Calendar//EN
BEGIN:VEVENT
DTSTAMP:20120115T200000Z
UID:1323362229963@events.msu.edu
CATEGORIES:Performing Arts (Dance, Music, Theatre,  ...)
DTSTART:20120115T200000Z
DTEND:20120116T045900Z
SUMMARY:MSU Children's Choir MLK Concert
DESCRIPTION:
 Come watch the Children's Choir MLK Concert at 
 the Pasant Theatre on January 15 at 3 and 7 
 p.m.\n\n
 Sponsor: Administration\n
 Sponsor's Homepage: http://cms.msu.edu\n
 Contact phone: (517) 355-7661\n
 Contact email: commusic@msu.edu\n
LOCATION:Pasant Theatre
END:VEVENT
END:VCALENDAR
