BEGIN:VCALENDAR
VERSION:2.0
METHOD:PUBLISH
PRODID:-//Virginia Tech//VT Calendar//EN
BEGIN:VEVENT
DTSTAMP:20120120T171500Z
UID:1323804644153@events.msu.edu
CATEGORIES:Conferences / Seminars / Lectures
DTSTART:20120120T171500Z
DTEND:20120120T183000Z
SUMMARY:Brown Bag Series - Our Daily Work/ Our Daily Lives
DESCRIPTION:
 This week's presentation titled, "Visions and 
 Visages: Transforming Images of American Indians 
 in 'Indians at Work', 1933-1945," is presented 
 by Mindy Morgan, MSU Department of Anthropology. 
 "Our Daily Work / Our Daily Lives" 
 is a joint project that focuses on the artistic 
 traditions of workers and on workplaces as 
 contexts for the expression of workers culture. 
 The richness and diversity of workers' experiences 
 and workers culture is explored and 
 presented through an ongoing series of exhibits, 
 lectures, and presentations; writing and 
 research projects; reunions; and demonstrations 
 and discussions. The program was established 
 in 1992 and is coordinated by the Michigan 
 Traditional Arts Program at the MSU Museum 
 and the Labor Education Program in the College 
 of Social Science's School of Human Resources 
 and Labor Relations.\n
 \n\n
 Price: free\n
 Sponsor: MSU Museum\n
 Sponsor's Homepage: http://museum.msu.edu\n
 Contact name: John Beck\n
 Contact phone: (517) 432-3982\n
 Contact email: beckj@msu.edu\n
 for more info visit the web at:\n 
 http://museum.msu.edu\n
LOCATION:MSU Museum Auditorium
END:VEVENT
END:VCALENDAR
