BEGIN:VCALENDAR
VERSION:2.0
METHOD:PUBLISH
PRODID:-//Virginia Tech//VT Calendar//EN
BEGIN:VEVENT
DTSTAMP:20120219T193000Z
UID:1323880083368@events.msu.edu
CATEGORIES:Public Programs
DTSTART:20120219T193000Z
DTEND:20120219T203000Z
SUMMARY:The Super Sky Show
DESCRIPTION:
 Join host Seymour Sky and his puppet show featuring 
 only the greatest "stars".  special guests 
 include Queen Cassiopeia, the Earth and the 
 Sun, and an intriguing "mystery" guest.  Children 
 will hear star myths and learn about 
 the night sky and the planets around them.  This 
 show is appropriate for ages preschool children 
 through grade 2 and their families.\n\n
 Price: Adults $3.00, students and senior citizens $2.50, 
 children 12 years and under $2.00\n
 Sponsor: Abrams Planetarium\n
 Sponsor's Homepage: http://www.pa.msu.edu/abrams\n
 Contact name: Mary Gowans\n
 Contact phone: 517-355-4676\n
 Contact email: gowans@msu.edu\n
 for more info visit the web at:\n 
 http://www.pa.msu.edu/abrams\n
LOCATION:Abrams Planetarium
END:VEVENT
END:VCALENDAR
