BEGIN:VCALENDAR
VERSION:2.0
METHOD:PUBLISH
PRODID:-//Virginia Tech//VT Calendar//EN
BEGIN:VEVENT
DTSTAMP:20120307T200000Z
UID:1323891496981@events.msu.edu
CATEGORIES:Conferences / Seminars / Lectures
DTSTART:20120307T200000Z
DTEND:20120307T211500Z
SUMMARY:Department of Chemistry Organic Seminar
DESCRIPTION:
 Peter Heisler, MSU, will present a Department 
 of Chemistry Organic Seminar on Wednesday, March 
 7.  Host - Professor Robert Maleczka.  Title 
 - Utility of Highly Oxygenated Carbons and 
 their Role in Modern Iron-Catalyzed Reactions.\n
 \n\n
 Price: free\n
 Sponsor: Chemistry\n
 Sponsor's Homepage: http://www.chemistry.msu.edu/\n
 Contact name: DeAnn Pierce\n
 Contact phone: 517-355-9715, X137\n
LOCATION:136 Chemistry
END:VEVENT
END:VCALENDAR
