BEGIN:VCALENDAR
VERSION:2.0
METHOD:PUBLISH
PRODID:-//Virginia Tech//VT Calendar//EN
BEGIN:VEVENT
DTSTAMP:20120207T212000Z
UID:1325017192408@events.msu.edu
CATEGORIES:Conferences / Seminars / Lectures
DTSTART:20120207T212000Z
DTEND:20120207T222000Z
SUMMARY:Dow Karabatsos Distinguished Lectureship
DESCRIPTION:
 Maurice S. Brookhart, William R. Kenan Professor 
 of Chemistry, University of North Carolina, 
 Chapel Hill, will present lecture, "Alkane 
 Metathesis:  A Route to Tomorrow's Fuels?"\n\n
 Price: free\n
 Sponsor: Department of Chemistry\n
 Sponsor's Homepage: http://www.chemistry.msu.edu/\n
 Contact name: Rebecca Townsend\n
 Contact phone: (517) 355-9715 x345\n
 Contact email: townse44@msu.edu\n
 for more info visit the web at:\n 
 https://calendar.chemistry.msu.edu/?CalendarName=Chemistry_Events&Op=ShowIt&Amount=Month&NavType=Abs\n
LOCATION:Room 138 Chemistry
END:VEVENT
END:VCALENDAR
