BEGIN:VCALENDAR
VERSION:2.0
METHOD:PUBLISH
PRODID:-//Virginia Tech//VT Calendar//EN
BEGIN:VEVENT
DTSTAMP:20120320T050000Z
UID:1325606356749-0038@events.msu.edu
CATEGORIES:Exhibits (Museum, Gardens, ...)
DTSTART;VALUE=DATE:20120320
DTEND;VALUE=DATE:20120321
SUMMARY:It Started with a Rock Collection: Charles Darwin, Geologist
DESCRIPTION:
 Coinciding with Darwin Discovery Day, the exhibit 
 looks at Charles Darwin's early roots as 
 a young geologist, and how he moved from this 
 interest into broader studies of evolution. 
 Objects from MSU Museum collections plus rock 
 specimens from the MSU Geology Department will 
 be on display.\n
 \n
 \n\n
 Price: free\n
 Sponsor: Administration\n
 Sponsor's Homepage: http://museum.msu.edu/\n
 Contact phone: 517-355-2370\n
 Contact email: pr@museum.msu.edu\n
 for more info visit the web at:\n 
 http://museum.msu.edu\n
LOCATION:Heritage Gallery
END:VEVENT
END:VCALENDAR
