BEGIN:VCALENDAR
VERSION:2.0
METHOD:PUBLISH
PRODID:-//Virginia Tech//VT Calendar//EN
BEGIN:VEVENT
DTSTAMP:20120305T162000Z
UID:1326205931494@events.msu.edu
CATEGORIES:Conferences / Seminars / Lectures
DTSTART:20120305T162000Z
DTEND:20120305T172000Z
SUMMARY:Inorganic Chemistry Seminar
DESCRIPTION:
 Professor Reza Ghiladi, North Carolina State University, 
 will present an inorganic chemistry 
 seminar on Monday, March 5, 2012, in Room 136 
 Chemistry, at 11:20 a.m.  The title of his 
 presentation is "Unraveling the Dehaloperoxidase 
 Paradox:  Structural, Spectroscopic and 
 Mechanistic Investigations of Dehaloproxidase 
 B from Amphitrite Ornata." Host:  Professor 
 Remi Beaulac\n\n
 Price: free\n
 Sponsor: Chemistry\n
 Sponsor's Homepage: http://www.chemistry.msu.edu/\n
 Contact name: Virgene Rector\n
 Contact phone: 517-355-9715, ext. 191\n
 Contact email: virgene@msu.edu\n
LOCATION:136 Chemistry
END:VEVENT
END:VCALENDAR
