BEGIN:VCALENDAR
VERSION:2.0
METHOD:PUBLISH
PRODID:-//Virginia Tech//VT Calendar//EN
BEGIN:VEVENT
DTSTAMP:20120117T211000Z
UID:1326224457546@events.msu.edu
CATEGORIES:Conferences / Seminars / Lectures
DTSTART:20120117T211000Z
DTEND:20120117T221000Z
SUMMARY:Physical Chemistry Seminar
DESCRIPTION:
 Erica Vogel, Michigan State University, will present 
 a physical chemistry seminar on Tuesday, 
 January 17, 2012, in Room 136 Chemistry at 
 4:10 p.m.  Host:  Professor David Weliky\n\n
 Price: free\n
 Sponsor: Chemistry\n
 Sponsor's Homepage: http://www.chemistry.msu.edu/\n
 Contact name: Virgene Rector\n
 Contact phone: 517-355-9715, ext. 191\n
 Contact email: virgene@msu.edu\n
LOCATION:136 Chemistry
END:VEVENT
END:VCALENDAR
