BEGIN:VCALENDAR
VERSION:2.0
METHOD:PUBLISH
PRODID:-//Virginia Tech//VT Calendar//EN
BEGIN:VEVENT
DTSTAMP:20120122T000000Z
UID:1326229370153@events.msu.edu
CATEGORIES:Student Events
DTSTART:20120122T000000Z
DTEND:20120122T045900Z
SUMMARY:Campus Center Cinemas
DESCRIPTION:
 Drive- 7:15 & 9:15 pm\n
 Footloose- 7:00 pm & 9:05 
 pm\n
 Nostalgia for the Light- 7:00pm & 9:15 
 pm\n
 The Addams Family- 7:15pm & 9:15pm\n\n
 Price: FREE for residence hall students, $2 all others\n
 Sponsor: University Activities Board (UAB) and Residence 
 Halls Assoc. (RHA)\n
 Sponsor's Homepage: http://www.uabevents.com\n
 Contact name: University Activities Board\n
 Contact phone: 355-3354\n
 Contact email: uab@hfs.msu.edu\n
 for more info visit the web at:\n 
 http://www.uabevents.com or www. rha.msu.edu\n
LOCATION:B-Wing Wells Hall
END:VEVENT
END:VCALENDAR
