BEGIN:VCALENDAR
VERSION:2.0
METHOD:PUBLISH
PRODID:-//Virginia Tech//VT Calendar//EN
BEGIN:VEVENT
DTSTAMP:20120122T000500Z
UID:1326314121448@events.msu.edu
CATEGORIES:Athletics
DTSTART:20120122T000500Z
DTEND:20120122T045900Z
SUMMARY:Men's Ice Hockey vs. Lake Superior State
DESCRIPTION:
  Sponsor: MSU Athletics\n
 Sponsor's Homepage: http://events.msu.edu/athletics/\n
 for more info visit the web at:\n 
 http://www.msuspartans.com/sports/m-hockey/sched/msu-m-hockey-sched.html\n
LOCATION:Munn Ice Arena
END:VEVENT
END:VCALENDAR
