BEGIN:VCALENDAR
VERSION:2.0
METHOD:PUBLISH
PRODID:-//Virginia Tech//VT Calendar//EN
BEGIN:VEVENT
DTSTAMP:20120127T174000Z
UID:1326315709745@events.msu.edu
CATEGORIES:Conferences / Seminars / Lectures
DTSTART:20120127T174000Z
DTEND:20120128T045900Z
SUMMARY:Analytical Seminar
DESCRIPTION:
 Chen Zhang (MSU) Host - Prof. Daniel Jones\n
 "Protein 
 Complexes Analysis Based on Ion Mobility 
 Mass Spectrometry"\n\n
 Price: free\n
 Sponsor: Chemistry\n
 Sponsor's Homepage: http://www.chemistry.msu.edu/\n
 Contact name: Brenda Franklin\n
 Contact phone: (517) 355-9715 ext. 341\n
 Contact email: franklin@chemistry.msu.edu\n
LOCATION:136 Chemistry
END:VEVENT
END:VCALENDAR
