BEGIN:VCALENDAR
VERSION:2.0
METHOD:PUBLISH
PRODID:-//Virginia Tech//VT Calendar//EN
BEGIN:VEVENT
DTSTAMP:20120113T173000Z
UID:1326384546940@events.msu.edu
CATEGORIES:Conferences / Seminars / Lectures
DTSTART:20120113T173000Z
DTEND:20120113T183000Z
SUMMARY:Jan. 13 - Geological Sciences Seminar
DESCRIPTION:
 Dr. Warren Wood, MSU, "Pleistocene and Holocene 
 Elevation Changes of the Southern Arabian Gulf 
 Coastal Area and its Geosocietal Implications"\n
 \n\n
 Price: free\n
 Sponsor: MSU Department of Geological Sciences\n
 Sponsor's Homepage: http://glg.msu.edu\n
 Contact name: Heidi Lynde\n
 Contact phone: 517 355-4626\n
 Contact email: lynde@msu.edu\n
LOCATION:304 Natural Science Building
END:VEVENT
END:VCALENDAR
