BEGIN:VCALENDAR
VERSION:2.0
METHOD:PUBLISH
PRODID:-//Virginia Tech//VT Calendar//EN
BEGIN:VEVENT
DTSTAMP:20120205T180000Z
UID:1326398289275@events.msu.edu
CATEGORIES:Athletics
DTSTART:20120205T180000Z
DTEND:20120206T045900Z
SUMMARY:Men's Basketball vs. Michigan
DESCRIPTION:
  Sponsor: MSU Athletics\n
 Sponsor's Homepage: http://events.msu.edu/athletics/\n
 for more info visit the web at:\n 
 http://www.msuspartans.com/sports/m-baskbl/sched/msu-m-baskbl-sched.html\n
LOCATION:Breslin Center
END:VEVENT
END:VCALENDAR
