BEGIN:VCALENDAR
VERSION:2.0
METHOD:PUBLISH
PRODID:-//Virginia Tech//VT Calendar//EN
BEGIN:VEVENT
DTSTAMP:20120202T000000Z
UID:1327067267130@events.msu.edu
CATEGORIES:Student Events
DTSTART:20120202T000000Z
DTEND:20120202T020000Z
SUMMARY:Paper Flower Bouquet Craft Night
DESCRIPTION:
 Paper Flower Bouquet Craft Night\n
 One Union Square\n
 MSU 
 Union\n
 7:00-9:00 p.m.\n
 Brighten your 
 day (or someone else's) with a beautiful bouquet 
 of flowers!  These flowers will never wilt 
 and will look great in your room all year 
 round.  UAB will provide directions and materials 
 for FREE while supplies last.\n
 \n\n
 Price: FREE\n
 Sponsor: University Activities Board (UAB)\n
 Sponsor's Homepage: http://www.uabevents.com\n
 Contact name: University Activities Board\n
 Contact phone: 355-3354\n
 Contact email: uab@hfs.msu.edu\n
 for more info visit the web at:\n 
 http://www.uabevents.com\n
LOCATION:MSU Union
END:VEVENT
END:VCALENDAR
