BEGIN:VCALENDAR
VERSION:2.0
METHOD:PUBLISH
PRODID:-//Virginia Tech//VT Calendar//EN
BEGIN:VEVENT
DTSTAMP:20120213T000000Z
UID:1327067856963-0004@events.msu.edu
CATEGORIES:Student Events
DTSTART:20120213T000000Z
DTEND:20120213T045900Z
SUMMARY:Campus Center Cinemas
DESCRIPTION:
 In Time\n
 Thursday Wells Hall 7:00 p.m.\n
 Friday, 
 Saturday, & Sunday Wells Hall 7:15 &9:15 p.m.\n
 \n
 Melancholia\n
 Thursday 
 Wells Hall 9:00 p.m.\n
 Friday, 
 Saturday, & Sunday Wells Hall 8:30 
 p.m.\n
 \n
 \n
 Jack and Jill\n
 Friday, Saturday, 
 & Sunday Wells Hall 7:20 & 9:10 p.m.\n
 \n\n
 Price: FREE for undergraduate students living in the 
 residence halls\n
 Sponsor: University Activities Board (UAB)\n
 Sponsor's Homepage: http://www.uabevents.com\n
 Contact name: University Activities Board\n
 Contact phone: 355-3354\n
 Contact email: uab@hfs.msu.edu\n
 for more info visit the web at:\n 
 http://www.uabevents.com\n
LOCATION:Wells Hall
END:VEVENT
END:VCALENDAR
