BEGIN:VCALENDAR
VERSION:2.0
METHOD:PUBLISH
PRODID:-//Virginia Tech//VT Calendar//EN
BEGIN:VEVENT
DTSTAMP:20120203T173000Z
UID:1328029131109@events.msu.edu
CATEGORIES:Conferences / Seminars / Lectures
DTSTART:20120203T173000Z
DTEND:20120203T183000Z
SUMMARY:Feb. 3 - Geological Sciences Seminar
DESCRIPTION:
 <b>Dr. Danita Brandt</b>\n
 <p><i>Michigan State 
 University</i>\n
 <p><b>"Charles Darwin, Geologist"</b>\n
 <p><p>\n
 <a 
 href="http://events.msu.edu/export.php?type=rss2_0&calendar=geologicalsciences&categoryid=809">Seminar 
 Calendar</a>\n
 <p>\n
 \n\n
 Price: free\n
 Sponsor: MSU Department of Geological Sciences\n
 Sponsor's Homepage: http://glg.msu.edu\n
 Contact name: Heidi Lynde\n
 Contact phone: 517 355-4626\n
 Contact email: lynde@msu.edu\n
LOCATION:304 Natural Science Building
END:VEVENT
END:VCALENDAR
