BEGIN:VCALENDAR
VERSION:2.0
METHOD:PUBLISH
PRODID:-//Virginia Tech//VT Calendar//EN
BEGIN:VEVENT
DTSTAMP:20120304T200000Z
UID:1328722308904@events.msu.edu
CATEGORIES:Performing Arts (Dance, Music, Theatre,  ...)
DTSTART:20120304T200000Z
DTEND:20120304T220000Z
SUMMARY:All-School Recital
DESCRIPTION:
 Come support students of the MSU Community Music 
 School by attending the All-School Recital 
 on March 4.\n\n
 Price: free\n
 Sponsor: Administration\n
 Sponsor's Homepage: http://cms.msu.edu\n
 Contact phone: (517) 355-7661\n
 Contact email: commusic@msu.edu\n
 for more info visit the web at:\n 
 http://cms.msu.edu\n
LOCATION:Community Music School
END:VEVENT
END:VCALENDAR
