BEGIN:VCALENDAR
VERSION:2.0
METHOD:PUBLISH
PRODID:-//Virginia Tech//VT Calendar//EN
BEGIN:VEVENT
DTSTAMP:20120222T220000Z
UID:1328739141396@events.msu.edu
CATEGORIES:Student Events
DTSTART:20120222T220000Z
DTEND:20120223T010000Z
SUMMARY:Anesthesiology Interest Group - IV and Lumbar Puncture Lab
DESCRIPTION:
 Dr. Henry Beckmeyer will be teaching students 
 how to preform lumbar punctures and IV blood 
 draws using mannequins in the Learning Assessment 
 Center.\n
 Only 36 spots are available.\n
 \n\n
 Price:  \n
 Sponsor: Anesthesiology Interest Group\n
 Contact name: Jafar Haghshenas\n
 Contact phone: (269) 615-5395\n
 Contact email: haghshe2@msu.edu\n
 for more info visit the web at:\n 
 http://www.com.msu.edu/Student_Groups/Flyers-2011/AIG.pdf\n
LOCATION:Learning Assessment Center
END:VEVENT
END:VCALENDAR
