BEGIN:VCALENDAR
VERSION:2.0
METHOD:PUBLISH
PRODID:-//Virginia Tech//VT Calendar//EN
BEGIN:VEVENT
DTSTAMP:20120227T010000Z
UID:1328794370508-0003@events.msu.edu
CATEGORIES:Movie / Film
DTSTART:20120227T010000Z
DTEND:20120227T045900Z
SUMMARY:Special Screening of Moulin Rouge
DESCRIPTION:
 Special Screening of Moulin Rouge\n
 Campus Center 
 Cinema is partnering with the Wharton Center 
 Student Marketing Organization to bring a 
 special screening of Moulin Rouge. Come to the 
 screening to get the chance to win a pair of 
 tickets to Canada's Royal Winnipeg Ballet: 
 Moulin Rouge-The Ballet at the Wharton Center 
 March 14. Standard Campus Center Cinema rates 
 apply. \n
 \n\n
 Price: FREE\n
 Sponsor: University Activities Board (UAB)\n
 Sponsor's Homepage: http://www.uabevents.com\n
 Contact name: University Activities Board\n
 Contact phone: 355-3354\n
 Contact email: uab@hfs.msu.edu\n
 for more info visit the web at:\n 
 http://www.uabevents.com\n
LOCATION:wells hall
END:VEVENT
END:VCALENDAR
