BEGIN:VCALENDAR
VERSION:2.0
METHOD:PUBLISH
PRODID:-//Virginia Tech//VT Calendar//EN
BEGIN:VEVENT
DTSTAMP:20120315T000000Z
UID:1329400133192@events.msu.edu
CATEGORIES:Student Events
DTSTART:20120315T000000Z
DTEND:20120315T020000Z
SUMMARY:"Piggy Banks" Craft Night
DESCRIPTION:
 "Piggy Banks" Craft Night\n
 One Union Square\n
 MSU 
 Union\n
 7:00-9:00 p.m.\n
 Oink, Oink! Sorry, 
 that was our change dropping into our piggy banks. 
  Come make your own with UAB, it's FREE 
 while supplies last.  Don't get too excited, 
 we will not be providing any contents for your 
 bank, though :o)\n
 \n\n
 Price: FREE\n
 Sponsor: University Activities Board (UAB)\n
 Sponsor's Homepage: http://www.uabevents.com\n
 Contact name: University Activities Board\n
 Contact phone: 355-3354\n
 Contact email: uab@hfs.msu.edu\n
 for more info visit the web at:\n 
 http://www.uabevents.com\n
LOCATION:One Union Square Food Court
END:VEVENT
END:VCALENDAR
