BEGIN:VCALENDAR
VERSION:2.0
METHOD:PUBLISH
PRODID:-//Virginia Tech//VT Calendar//EN
BEGIN:VEVENT
DTSTAMP:20120323T000000Z
UID:1329400472274-0001@events.msu.edu
CATEGORIES:Student Events
DTSTART:20120323T000000Z
DTEND:20120323T045900Z
SUMMARY:Campus Center Cinemas
DESCRIPTION:
 The Girl With the Dragon Tattoo\n
 Friday, Saturday, 
 & Sunday Wells Hall 8:30 p.m.\n
 Saturday 
 137 Akers Hall 9:00 p.m.\n
 http://www.imdb.com/title/tt1568346/\n
 \n
 Pariah\n
 Friday, 
 Saturday, 
 & Sunday Wells Hall 7:15 & 9:10 p.m.\n
 http://www.imdb.com/title/tt1233334/\n
 \n
 Young 
 Adult\n
 Thursday 
 Wells Hall 7:00 p.m.\n
 Friday, Saturday, 
 & Sunday 7:00 & 9:00 p.m.\n
 Saturday 137 
 Akers Hall 7:20 p.m.\n
 http://www.imdb.com/title/tt1625346/\n
 \n
 My 
 Week With Marilyn\n
 Thursday 
 Wells Hall 9:00 p.m.\n
 Friday, Saturday, 
 & Sunday Wells Hall 7:00 & 9:15 p.m.\n
 Friday 
 137 Akers Hall 7:00 & 9:15 p.m.\n
 http://www.imdb.com/title/tt0970179/\n
 \n
 \n\n
 Price: FREE\n
 Sponsor: University Activities Board (UAB)\n
 Sponsor's Homepage: http://www.uabevents.com\n
 Contact name: University Activities Board\n
 Contact phone: 355-3354\n
 Contact email: uab@hfs.msu.edu\n
 for more info visit the web at:\n 
 http://www.uabevents.com\n
LOCATION:Wells Hall
END:VEVENT
END:VCALENDAR
